Package: sva Version: 3.52.0 Command: /home/biocbuild/bbs-3.19-bioc/R/bin/R CMD INSTALL sva StartedAt: 2024-10-16 16:28:47 -0400 (Wed, 16 Oct 2024) EndedAt: 2024-10-16 16:29:06 -0400 (Wed, 16 Oct 2024) EllapsedTime: 19.2 seconds RetCode: 0 Status: OK