Package: sva Version: 3.52.0 Command: /Library/Frameworks/R.framework/Resources/bin/R CMD check --install=check:sva.install-out.txt --library=/Library/Frameworks/R.framework/Resources/library --no-vignettes --timings sva_3.52.0.tar.gz StartedAt: 2024-10-17 14:04:59 -0400 (Thu, 17 Oct 2024) EndedAt: 2024-10-17 14:13:31 -0400 (Thu, 17 Oct 2024) EllapsedTime: 511.5 seconds RetCode: 0 Status: OK CheckDir: sva.Rcheck Warnings: 0