Package: sva Version: 3.52.0 Command: rm -rf sva.buildbin-libdir && mkdir sva.buildbin-libdir && /Users/biocbuild/BBS/utils/build-universal.sh sva_3.52.0.tar.gz /Library/Frameworks/R.framework/Resources/bin/R sva.buildbin-libdir StartedAt: 2024-10-17 17:19:17 -0400 (Thu, 17 Oct 2024) EndedAt: 2024-10-17 17:20:11 -0400 (Thu, 17 Oct 2024) EllapsedTime: 53.5 seconds RetCode: 0 Status: OK PackageFile: sva_3.52.0.tgz PackageFileSize: 525.2 KiB