Package: sva Version: 3.52.0 Command: /Library/Frameworks/R.framework/Resources/bin/R CMD build --keep-empty-dirs --no-resave-data sva StartedAt: 2024-06-09 18:22:52 -0400 (Sun, 09 Jun 2024) EndedAt: 2024-06-09 18:23:51 -0400 (Sun, 09 Jun 2024) EllapsedTime: 59.5 seconds RetCode: 0 Status: OK PackageFile: sva_3.52.0.tar.gz PackageFileSize: 442.7 KiB