Package: sva Version: 3.52.0 Command: /home/biocbuild/R/R-beta-2024-04-15_r86425/bin/R CMD build --keep-empty-dirs --no-resave-data sva StartedAt: 2024-05-09 03:59:52 -0000 (Thu, 09 May 2024) EndedAt: 2024-05-09 04:01:04 -0000 (Thu, 09 May 2024) EllapsedTime: 72.1 seconds RetCode: 0 Status: OK PackageFile: sva_3.52.0.tar.gz PackageFileSize: 431.7 KiB