Package: sva Version: 3.52.0 Command: /Library/Frameworks/R.framework/Resources/bin/R CMD INSTALL sva StartedAt: 2024-06-09 16:51:55 -0400 (Sun, 09 Jun 2024) EndedAt: 2024-06-09 16:52:27 -0400 (Sun, 09 Jun 2024) EllapsedTime: 32.1 seconds RetCode: 0 Status: OK