Package: sva Version: 3.52.0 Command: /Library/Frameworks/R.framework/Resources/bin/R CMD build --keep-empty-dirs --no-resave-data sva StartedAt: 2024-10-17 10:23:57 -0400 (Thu, 17 Oct 2024) EndedAt: 2024-10-17 10:25:12 -0400 (Thu, 17 Oct 2024) EllapsedTime: 75.8 seconds RetCode: 0 Status: OK PackageFile: sva_3.52.0.tar.gz PackageFileSize: 441.9 KiB