Package: survcomp Version: 1.54.0 Command: E:\biocbuild\bbs-3.19-bioc\R\bin\R.exe CMD INSTALL survcomp StartedAt: 2024-10-16 17:22:07 -0400 (Wed, 16 Oct 2024) EndedAt: 2024-10-16 17:22:31 -0400 (Wed, 16 Oct 2024) EllapsedTime: 23.7 seconds RetCode: 0 Status: OK