Package: survcomp Version: 1.54.0 Command: E:\biocbuild\bbs-3.19-bioc\R\bin\R.exe CMD check --no-multiarch --install=check:survcomp.install-out.txt --library=E:\biocbuild\bbs-3.19-bioc\R\library --no-vignettes --timings survcomp_1.54.0.tar.gz StartedAt: 2024-10-17 06:20:31 -0400 (Thu, 17 Oct 2024) EndedAt: 2024-10-17 06:21:52 -0400 (Thu, 17 Oct 2024) EllapsedTime: 81.1 seconds RetCode: 0 Status: OK CheckDir: survcomp.Rcheck Warnings: 0