Package: survcomp Version: 1.54.0 Command: rm -rf survcomp.buildbin-libdir && mkdir survcomp.buildbin-libdir && E:\biocbuild\bbs-3.19-bioc\R\bin\R.exe CMD INSTALL --build --library=survcomp.buildbin-libdir survcomp_1.54.0.tar.gz StartedAt: 2024-10-17 08:44:52 -0400 (Thu, 17 Oct 2024) EndedAt: 2024-10-17 08:45:14 -0400 (Thu, 17 Oct 2024) EllapsedTime: 22.4 seconds RetCode: 0 Status: OK PackageFile: survcomp_1.54.0.zip PackageFileSize: 855 KiB