Package: survcomp Version: 1.54.0 Command: rm -rf survcomp.buildbin-libdir && mkdir survcomp.buildbin-libdir && F:\biocbuild\bbs-3.19-bioc\R\bin\R.exe CMD INSTALL --build --library=survcomp.buildbin-libdir survcomp_1.54.0.tar.gz StartedAt: 2024-06-27 09:00:55 -0400 (Thu, 27 Jun 2024) EndedAt: 2024-06-27 09:01:19 -0400 (Thu, 27 Jun 2024) EllapsedTime: 23.9 seconds RetCode: 0 Status: OK PackageFile: survcomp_1.54.0.zip PackageFileSize: 855.8 KiB