Package: survcomp Version: 1.54.0 Command: /Library/Frameworks/R.framework/Resources/bin/R CMD check --install=check:survcomp.install-out.txt --library=/Library/Frameworks/R.framework/Resources/library --no-vignettes --timings survcomp_1.54.0.tar.gz StartedAt: 2024-10-17 14:03:18 -0400 (Thu, 17 Oct 2024) EndedAt: 2024-10-17 14:05:48 -0400 (Thu, 17 Oct 2024) EllapsedTime: 150.3 seconds RetCode: 0 Status: WARNINGS CheckDir: survcomp.Rcheck Warnings: 1