Package: survcomp Version: 1.54.0 Command: /home/biocbuild/R/R-beta-2024-04-15_r86425/bin/R CMD INSTALL survcomp StartedAt: 2024-05-08 21:07:00 -0000 (Wed, 08 May 2024) EndedAt: 2024-05-08 21:07:15 -0000 (Wed, 08 May 2024) EllapsedTime: 15.5 seconds RetCode: 0 Status: OK