Package: survcomp Version: 1.54.0 Command: /Library/Frameworks/R.framework/Resources/bin/R CMD check --install=check:survcomp.install-out.txt --library=/Library/Frameworks/R.framework/Resources/library --no-vignettes --timings survcomp_1.54.0.tar.gz StartedAt: 2024-06-11 07:36:22 -0400 (Tue, 11 Jun 2024) EndedAt: 2024-06-11 07:38:19 -0400 (Tue, 11 Jun 2024) EllapsedTime: 117.8 seconds RetCode: 0 Status: WARNINGS CheckDir: survcomp.Rcheck Warnings: 1