Package: survcomp Version: 1.54.0 Command: /Library/Frameworks/R.framework/Resources/bin/R CMD build --keep-empty-dirs --no-resave-data survcomp StartedAt: 2024-10-17 10:23:28 -0400 (Thu, 17 Oct 2024) EndedAt: 2024-10-17 10:23:57 -0400 (Thu, 17 Oct 2024) EllapsedTime: 28.4 seconds RetCode: 0 Status: OK PackageFile: survcomp_1.54.0.tar.gz PackageFileSize: 638 KiB