Package: surfaltr Version: 1.10.0 Command: E:\biocbuild\bbs-3.19-bioc\R\bin\R.exe CMD check --no-multiarch --install=check:surfaltr.install-out.txt --library=E:\biocbuild\bbs-3.19-bioc\R\library --no-vignettes --timings surfaltr_1.10.0.tar.gz StartedAt: 2024-10-17 06:19:36 -0400 (Thu, 17 Oct 2024) EndedAt: 2024-10-17 06:22:03 -0400 (Thu, 17 Oct 2024) EllapsedTime: 147.0 seconds RetCode: 0 Status: OK CheckDir: surfaltr.Rcheck Warnings: 0