Package: surfaltr Version: 1.10.0 Command: /home/biocbuild/bbs-3.19-bioc/R/bin/R CMD build --keep-empty-dirs --no-resave-data surfaltr StartedAt: 2024-10-16 21:05:20 -0400 (Wed, 16 Oct 2024) EndedAt: 2024-10-16 21:05:57 -0400 (Wed, 16 Oct 2024) EllapsedTime: 37.1 seconds RetCode: 0 Status: OK PackageFile: surfaltr_1.10.0.tar.gz PackageFileSize: 3.051 MiB