Package: surfaltr Version: 1.10.0 Command: /Library/Frameworks/R.framework/Resources/bin/R CMD build --keep-empty-dirs --no-resave-data surfaltr StartedAt: 2024-10-17 10:22:52 -0400 (Thu, 17 Oct 2024) EndedAt: 2024-10-17 10:23:28 -0400 (Thu, 17 Oct 2024) EllapsedTime: 36.0 seconds RetCode: 0 Status: OK PackageFile: surfaltr_1.10.0.tar.gz PackageFileSize: 3.052 MiB