Package: supraHex Version: 1.42.0 Command: chmod a+r supraHex -R && E:\biocbuild\bbs-3.19-bioc\R\bin\R.exe CMD build --keep-empty-dirs --no-resave-data supraHex StartedAt: 2024-10-16 22:15:02 -0400 (Wed, 16 Oct 2024) EndedAt: 2024-10-16 22:15:33 -0400 (Wed, 16 Oct 2024) EllapsedTime: 31.4 seconds RetCode: 0 Status: OK PackageFile: supraHex_1.42.0.tar.gz PackageFileSize: 4.842 MiB