Package: supraHex Version: 1.42.0 Command: rm -rf supraHex.buildbin-libdir && mkdir supraHex.buildbin-libdir && E:\biocbuild\bbs-3.19-bioc\R\bin\R.exe CMD INSTALL --build --library=supraHex.buildbin-libdir supraHex_1.42.0.tar.gz StartedAt: 2024-10-17 08:44:48 -0400 (Thu, 17 Oct 2024) EndedAt: 2024-10-17 08:45:07 -0400 (Thu, 17 Oct 2024) EllapsedTime: 19.3 seconds RetCode: 0 Status: OK PackageFile: supraHex_1.42.0.zip PackageFileSize: 3.495 MiB