Package: supraHex Version: 1.42.0 Command: chmod a+r supraHex -R && F:\biocbuild\bbs-3.19-bioc\R\bin\R.exe CMD build --keep-empty-dirs --no-resave-data supraHex StartedAt: 2024-06-26 22:16:51 -0400 (Wed, 26 Jun 2024) EndedAt: 2024-06-26 22:17:25 -0400 (Wed, 26 Jun 2024) EllapsedTime: 33.8 seconds RetCode: 0 Status: OK PackageFile: supraHex_1.42.0.tar.gz PackageFileSize: 4.842 MiB