Package: supraHex Version: 1.42.0 Command: rm -rf supraHex.buildbin-libdir && mkdir supraHex.buildbin-libdir && F:\biocbuild\bbs-3.19-bioc\R\bin\R.exe CMD INSTALL --build --library=supraHex.buildbin-libdir supraHex_1.42.0.tar.gz StartedAt: 2024-06-27 09:00:50 -0400 (Thu, 27 Jun 2024) EndedAt: 2024-06-27 09:01:16 -0400 (Thu, 27 Jun 2024) EllapsedTime: 25.8 seconds RetCode: 0 Status: OK PackageFile: supraHex_1.42.0.zip PackageFileSize: 3.494 MiB