Package: supraHex Version: 1.42.0 Command: /Library/Frameworks/R.framework/Resources/bin/R CMD INSTALL supraHex StartedAt: 2024-10-16 15:50:34 -0400 (Wed, 16 Oct 2024) EndedAt: 2024-10-16 15:50:56 -0400 (Wed, 16 Oct 2024) EllapsedTime: 22.2 seconds RetCode: 0 Status: OK