Package: supraHex Version: 1.42.0 Command: /Library/Frameworks/R.framework/Resources/bin/R CMD check --install=check:supraHex.install-out.txt --library=/Library/Frameworks/R.framework/Resources/library --no-vignettes --timings supraHex_1.42.0.tar.gz StartedAt: 2024-06-09 23:25:56 -0400 (Sun, 09 Jun 2024) EndedAt: 2024-06-09 23:27:16 -0400 (Sun, 09 Jun 2024) EllapsedTime: 79.4 seconds RetCode: 0 Status: OK CheckDir: supraHex.Rcheck Warnings: 0