Package: supraHex Version: 1.42.0 Command: /Library/Frameworks/R.framework/Resources/bin/R CMD build --keep-empty-dirs --no-resave-data supraHex StartedAt: 2024-06-10 05:41:14 -0400 (Mon, 10 Jun 2024) EndedAt: 2024-06-10 05:41:51 -0400 (Mon, 10 Jun 2024) EllapsedTime: 37.9 seconds RetCode: 0 Status: OK PackageFile: supraHex_1.42.0.tar.gz PackageFileSize: 5.148 MiB