Package: supraHex Version: 1.42.0 Command: rm -rf supraHex.buildbin-libdir && mkdir supraHex.buildbin-libdir && /Users/biocbuild/BBS/utils/build-universal.sh supraHex_1.42.0.tar.gz /Library/Frameworks/R.framework/Resources/bin/R supraHex.buildbin-libdir StartedAt: 2024-06-11 13:27:56 -0400 (Tue, 11 Jun 2024) EndedAt: 2024-06-11 13:28:17 -0400 (Tue, 11 Jun 2024) EllapsedTime: 20.1 seconds RetCode: 0 Status: OK PackageFile: supraHex_1.42.0.tgz PackageFileSize: 3.777 MiB