Package: supraHex Version: 1.42.0 Command: /Library/Frameworks/R.framework/Resources/bin/R CMD check --install=check:supraHex.install-out.txt --library=/Library/Frameworks/R.framework/Resources/library --no-vignettes --timings supraHex_1.42.0.tar.gz StartedAt: 2024-10-18 14:24:44 -0400 (Fri, 18 Oct 2024) EndedAt: 2024-10-18 14:26:10 -0400 (Fri, 18 Oct 2024) EllapsedTime: 85.5 seconds RetCode: 0 Status: OK CheckDir: supraHex.Rcheck Warnings: 0