Package: supersigs Version: 1.12.0 Command: E:\biocbuild\bbs-3.19-bioc\R\bin\R.exe CMD check --no-multiarch --install=check:supersigs.install-out.txt --library=E:\biocbuild\bbs-3.19-bioc\R\library --no-vignettes --timings supersigs_1.12.0.tar.gz StartedAt: 2024-10-17 06:19:03 -0400 (Thu, 17 Oct 2024) EndedAt: 2024-10-17 06:24:23 -0400 (Thu, 17 Oct 2024) EllapsedTime: 319.6 seconds RetCode: 0 Status: OK CheckDir: supersigs.Rcheck Warnings: 0