Package: supersigs Version: 1.12.0 Command: chmod a+r supersigs -R && E:\biocbuild\bbs-3.19-bioc\R\bin\R.exe CMD build --keep-empty-dirs --no-resave-data supersigs StartedAt: 2024-10-16 22:14:51 -0400 (Wed, 16 Oct 2024) EndedAt: 2024-10-16 22:16:13 -0400 (Wed, 16 Oct 2024) EllapsedTime: 81.2 seconds RetCode: 0 Status: OK PackageFile: supersigs_1.12.0.tar.gz PackageFileSize: 2.586 MiB