Package: supersigs Version: 1.12.0 Command: rm -rf supersigs.buildbin-libdir && mkdir supersigs.buildbin-libdir && E:\biocbuild\bbs-3.19-bioc\R\bin\R.exe CMD INSTALL --build --library=supersigs.buildbin-libdir supersigs_1.12.0.tar.gz StartedAt: 2024-10-17 08:44:46 -0400 (Thu, 17 Oct 2024) EndedAt: 2024-10-17 08:45:39 -0400 (Thu, 17 Oct 2024) EllapsedTime: 53.2 seconds RetCode: 0 Status: OK PackageFile: supersigs_1.12.0.zip PackageFileSize: 5.406 MiB