Package: supersigs Version: 1.12.0 Command: chmod a+r supersigs -R && F:\biocbuild\bbs-3.19-bioc\R\bin\R.exe CMD build --keep-empty-dirs --no-resave-data supersigs StartedAt: 2024-06-26 22:16:39 -0400 (Wed, 26 Jun 2024) EndedAt: 2024-06-26 22:18:09 -0400 (Wed, 26 Jun 2024) EllapsedTime: 90.8 seconds RetCode: 0 Status: OK PackageFile: supersigs_1.12.0.tar.gz PackageFileSize: 2.586 MiB