Package: supersigs Version: 1.12.0 Command: rm -rf supersigs.buildbin-libdir && mkdir supersigs.buildbin-libdir && F:\biocbuild\bbs-3.19-bioc\R\bin\R.exe CMD INSTALL --build --library=supersigs.buildbin-libdir supersigs_1.12.0.tar.gz StartedAt: 2024-06-27 09:00:48 -0400 (Thu, 27 Jun 2024) EndedAt: 2024-06-27 09:01:34 -0400 (Thu, 27 Jun 2024) EllapsedTime: 45.8 seconds RetCode: 0 Status: OK PackageFile: supersigs_1.12.0.zip PackageFileSize: 5.406 MiB