Package: supersigs Version: 1.12.0 Command: /Library/Frameworks/R.framework/Resources/bin/R CMD build --keep-empty-dirs --no-resave-data supersigs StartedAt: 2024-10-16 23:49:20 -0400 (Wed, 16 Oct 2024) EndedAt: 2024-10-16 23:52:04 -0400 (Wed, 16 Oct 2024) EllapsedTime: 163.9 seconds RetCode: 0 Status: OK PackageFile: supersigs_1.12.0.tar.gz PackageFileSize: 2.597 MiB