Package: supersigs Version: 1.12.0 Command: /Library/Frameworks/R.framework/Resources/bin/R CMD check --install=check:supersigs.install-out.txt --library=/Library/Frameworks/R.framework/Resources/library --no-vignettes --timings supersigs_1.12.0.tar.gz StartedAt: 2024-06-09 23:25:48 -0400 (Sun, 09 Jun 2024) EndedAt: 2024-06-09 23:30:39 -0400 (Sun, 09 Jun 2024) EllapsedTime: 290.4 seconds RetCode: 0 Status: OK CheckDir: supersigs.Rcheck Warnings: 0