Package: supersigs Version: 1.12.0 Command: /home/biocbuild/R/R-beta-2024-04-15_r86425/bin/R CMD build --keep-empty-dirs --no-resave-data supersigs StartedAt: 2024-05-09 03:59:04 -0000 (Thu, 09 May 2024) EndedAt: 2024-05-09 04:00:33 -0000 (Thu, 09 May 2024) EllapsedTime: 89.1 seconds RetCode: 0 Status: OK PackageFile: supersigs_1.12.0.tar.gz PackageFileSize: 2.589 MiB