Package: supersigs Version: 1.12.0 Command: /Library/Frameworks/R.framework/Resources/bin/R CMD build --keep-empty-dirs --no-resave-data supersigs StartedAt: 2024-10-17 10:22:13 -0400 (Thu, 17 Oct 2024) EndedAt: 2024-10-17 10:23:35 -0400 (Thu, 17 Oct 2024) EllapsedTime: 81.7 seconds RetCode: 0 Status: OK PackageFile: supersigs_1.12.0.tar.gz PackageFileSize: 2.597 MiB