Package: supersigs Version: 1.12.0 Maintainer: Albert Kuo MaintainerEmail: albertkuo at jhu.edu git_url: https://git.bioconductor.org/packages/supersigs git_branch: RELEASE_3_19 git_last_commit: 132e64c git_last_commit_date: 2024-04-30 11:33:57 -0400 (Tue, 30 Apr 2024)