Package: subSeq Version: 1.34.0 Command: rm -rf subSeq.buildbin-libdir && mkdir subSeq.buildbin-libdir && F:\biocbuild\bbs-3.19-bioc\R\bin\R.exe CMD INSTALL --build --library=subSeq.buildbin-libdir subSeq_1.34.0.tar.gz StartedAt: 2024-06-27 09:00:40 -0400 (Thu, 27 Jun 2024) EndedAt: 2024-06-27 09:01:04 -0400 (Thu, 27 Jun 2024) EllapsedTime: 23.3 seconds RetCode: 0 Status: OK PackageFile: subSeq_1.34.0.zip PackageFileSize: 2.943 MiB