Package: subSeq Version: 1.34.0 Command: /Library/Frameworks/R.framework/Resources/bin/R CMD build --keep-empty-dirs --no-resave-data subSeq StartedAt: 2024-10-16 23:48:28 -0400 (Wed, 16 Oct 2024) EndedAt: 2024-10-16 23:50:13 -0400 (Wed, 16 Oct 2024) EllapsedTime: 105.9 seconds RetCode: 0 Status: OK PackageFile: subSeq_1.34.0.tar.gz PackageFileSize: 2.917 MiB