Package: subSeq Version: 1.34.0 Command: /home/biocbuild/R/R-beta-2024-04-15_r86425/bin/R CMD INSTALL subSeq StartedAt: 2024-05-08 20:19:54 -0000 (Wed, 08 May 2024) EndedAt: 2024-05-08 20:20:03 -0000 (Wed, 08 May 2024) EllapsedTime: 9.5 seconds RetCode: 0 Status: OK