Package: subSeq Version: 1.34.0 Command: rm -rf subSeq.buildbin-libdir && mkdir subSeq.buildbin-libdir && /Users/biocbuild/BBS/utils/build-universal.sh subSeq_1.34.0.tar.gz /Library/Frameworks/R.framework/Resources/bin/R subSeq.buildbin-libdir StartedAt: 2024-10-15 20:32:00 -0400 (Tue, 15 Oct 2024) EndedAt: 2024-10-15 20:32:10 -0400 (Tue, 15 Oct 2024) EllapsedTime: 10.3 seconds RetCode: 0 Status: OK PackageFile: subSeq_1.34.0.tgz PackageFileSize: 2.946 MiB