Package: structToolbox Version: 1.16.0 Command: chmod a+r structToolbox -R && E:\biocbuild\bbs-3.19-bioc\R\bin\R.exe CMD build --keep-empty-dirs --no-resave-data structToolbox StartedAt: 2024-10-16 22:14:12 -0400 (Wed, 16 Oct 2024) EndedAt: 2024-10-16 22:27:54 -0400 (Wed, 16 Oct 2024) EllapsedTime: 822.1 seconds RetCode: 0 Status: OK PackageFile: structToolbox_1.16.0.tar.gz PackageFileSize: 3.412 MiB