Package: structToolbox Version: 1.16.0 Command: rm -rf structToolbox.buildbin-libdir && mkdir structToolbox.buildbin-libdir && /Users/biocbuild/BBS/utils/build-universal.sh structToolbox_1.16.0.tar.gz /Library/Frameworks/R.framework/Resources/bin/R structToolbox.buildbin-libdir StartedAt: 2024-10-17 17:18:49 -0400 (Thu, 17 Oct 2024) EndedAt: 2024-10-17 17:20:24 -0400 (Thu, 17 Oct 2024) EllapsedTime: 94.6 seconds RetCode: 0 Status: OK PackageFile: structToolbox_1.16.0.tgz PackageFileSize: 5.578 MiB