Package: structToolbox Version: 1.16.0 Command: /Library/Frameworks/R.framework/Resources/bin/R CMD INSTALL structToolbox StartedAt: 2024-06-09 15:10:36 -0400 (Sun, 09 Jun 2024) EndedAt: 2024-06-09 15:11:22 -0400 (Sun, 09 Jun 2024) EllapsedTime: 46.0 seconds RetCode: 0 Status: OK