Package: structToolbox Version: 1.16.0 Command: /Library/Frameworks/R.framework/Resources/bin/R CMD check --install=check:structToolbox.install-out.txt --library=/Library/Frameworks/R.framework/Resources/library --no-vignettes --timings structToolbox_1.16.0.tar.gz StartedAt: 2024-06-09 23:25:01 -0400 (Sun, 09 Jun 2024) EndedAt: 2024-06-09 23:33:43 -0400 (Sun, 09 Jun 2024) EllapsedTime: 522.9 seconds RetCode: 0 Status: OK CheckDir: structToolbox.Rcheck Warnings: 0