Package: structToolbox Version: 1.16.0 Command: /home/biocbuild/R/R-beta-2024-04-15_r86425/bin/R CMD build --keep-empty-dirs --no-resave-data structToolbox StartedAt: 2024-05-09 03:57:33 -0000 (Thu, 09 May 2024) EndedAt: 2024-05-09 04:13:20 -0000 (Thu, 09 May 2024) EllapsedTime: 946.3 seconds RetCode: 0 Status: OK PackageFile: structToolbox_1.16.0.tar.gz PackageFileSize: 3.771 MiB