Package: structToolbox Version: 1.16.0 Command: /Library/Frameworks/R.framework/Resources/bin/R CMD check --install=check:structToolbox.install-out.txt --library=/Library/Frameworks/R.framework/Resources/library --no-vignettes --timings structToolbox_1.16.0.tar.gz StartedAt: 2024-10-18 14:18:30 -0400 (Fri, 18 Oct 2024) EndedAt: 2024-10-18 14:28:05 -0400 (Fri, 18 Oct 2024) EllapsedTime: 574.8 seconds RetCode: 0 Status: OK CheckDir: structToolbox.Rcheck Warnings: 0