Package: structToolbox Version: 1.16.0 Command: /Library/Frameworks/R.framework/Resources/bin/R CMD build --keep-empty-dirs --no-resave-data structToolbox StartedAt: 2024-10-17 10:16:12 -0400 (Thu, 17 Oct 2024) EndedAt: 2024-10-17 10:27:52 -0400 (Thu, 17 Oct 2024) EllapsedTime: 699.9 seconds RetCode: 0 Status: OK PackageFile: structToolbox_1.16.0.tar.gz PackageFileSize: 4.904 MiB