Package: structToolbox Version: 1.16.0 Command: rm -rf structToolbox.buildbin-libdir && mkdir structToolbox.buildbin-libdir && /Users/biocbuild/BBS/utils/build-universal.sh structToolbox_1.16.0.tar.gz /Library/Frameworks/R.framework/Resources/bin/R structToolbox.buildbin-libdir StartedAt: 2024-10-15 20:31:25 -0400 (Tue, 15 Oct 2024) EndedAt: 2024-10-15 20:32:19 -0400 (Tue, 15 Oct 2024) EllapsedTime: 54.4 seconds RetCode: 0 Status: OK PackageFile: structToolbox_1.16.0.tgz PackageFileSize: 5.578 MiB