Package: structToolbox Version: 1.16.0 Maintainer: Gavin Rhys Lloyd MaintainerEmail: g.r.lloyd at bham.ac.uk git_url: https://git.bioconductor.org/packages/structToolbox git_branch: RELEASE_3_19 git_last_commit: daf3d2f git_last_commit_date: 2024-04-30 11:20:29 -0400 (Tue, 30 Apr 2024)